BEGIN:VCALENDAR
VERSION:2.0
PRODID:-//Tukios.com/
BEGIN:VEVENT
UID:c158b181-568e-41c7-9f75-2800f205625c@www.brosangfamilyfh.com
DTSTAMP:20260421T224112Z
DTSTART:20260502T160000Z
DTEND:20260502T170000Z
SUMMARY:Funeral Service for Adrian Sue Thompson
DESCRIPTION:
URL:https://www.brosangfamilyfh.com/obituaries/adrian-thompson
LOCATION:Bethel Bible South Campus U.S. Highway 69 South   TX 75757
GEO:32.110368;-95.2961538
END:VEVENT
END:VCALENDAR