BEGIN:VCALENDAR
VERSION:2.0
PRODID:-//Tukios.com/
BEGIN:VEVENT
UID:ef144bd6-da26-42d7-9fed-e928be9ff800@www.brosangfamilyfh.com
DTSTAMP:20260421T224558Z
DTSTART:20260502T170000Z
DTEND:20260502T180000Z
SUMMARY:Reception for Adrian Sue Thompson
DESCRIPTION:
URL:https://www.brosangfamilyfh.com/obituaries/adrian-thompson
LOCATION:Bethel Bible South Campus U.S. Highway 69 South   TX 75757
GEO:32.110368;-95.2961538
END:VEVENT
END:VCALENDAR